BEGIN:VCALENDAR
VERSION:2.0
PRODID:-//Just Youth - ECPv6.14.1//NONSGML v1.0//EN
CALSCALE:GREGORIAN
METHOD:PUBLISH
X-ORIGINAL-URL:https://www.justyouth.org.uk
X-WR-CALDESC:Events for Just Youth
REFRESH-INTERVAL;VALUE=DURATION:PT1H
X-Robots-Tag:noindex
X-PUBLISHED-TTL:PT1H
BEGIN:VTIMEZONE
TZID:Europe/London
BEGIN:DAYLIGHT
TZOFFSETFROM:+0000
TZOFFSETTO:+0100
TZNAME:BST
DTSTART:20210328T010000
END:DAYLIGHT
BEGIN:STANDARD
TZOFFSETFROM:+0100
TZOFFSETTO:+0000
TZNAME:GMT
DTSTART:20211031T010000
END:STANDARD
END:VTIMEZONE
BEGIN:VEVENT
DTSTART;TZID=Europe/London:20210809T120000
DTEND;TZID=Europe/London:20210809T160000
DTSTAMP:20260423T164112
CREATED:20210712T152802Z
LAST-MODIFIED:20210712T152802Z
UID:23419-1628510400-1628524800@www.justyouth.org.uk
SUMMARY:Skatepark Coaching\, Graffiti Workshop\, T-shirt Design & Creation - Lightwoods Park\, Smethwick
DESCRIPTION:Join Sandwell Young People’s Services for a boredom busting summer of fun! \nUnplug your devices and get outdoors this summer\, Young People’s Services will be hosting a  range of fun and exciting activities. From a skating competition (including learning new skills and tricks)\, music\, magic and circus skills\, graffiti art\, film making to climbing and sports – we’ve got it all coming to a park near you! \nFollow us on Facebook at www.facebook.com/JustYouthSandwell for the most up to date information. \nThese programmes have been made possible due to funding and support from the Holiday Activity & Food programme and are supported by Ashley Richards – Community Engagement Manager – Birmingham 2022 Commonwealth Games. \nThe Department for Education’s Holiday Activities and Food Programme has provided funding so Sandwell MBC can deliver free fun activities linked to a food offer for children and young people who are eligible for free school meals during the summer holidays. \nChildren and young people can be registered for the programme using this link: \nRegister now to get involved \nThere will be all sorts of activities on offer\, for young people aged 11-19yrs (up to 25yrs with SEND) to get involved in across Sandwell. \n#HAF2021
URL:https://www.justyouth.org.uk/event/skatepark-coaching-graffiti-workshop-t-shirt-design-creation-lightwoods-park-smethwick/
LOCATION:Lightwoods Park\, Smethwick\, Adkins Lane\, Bearwood\, Smethwick\, West Midlands\, B67 5DP\, United Kingdom
CATEGORIES:Boroughwide,Healthy Activities & Food,Summer Activities
ATTACH;FMTTYPE=image/jpeg:https://www.justyouth.org.uk/wp-content/uploads/2021/07/Graffiti-1.jpg
ORGANIZER;CN="Sandwell MBC - Youth Service":MAILTO:youngpeople_services@sandwell.gov.uk
END:VEVENT
BEGIN:VEVENT
DTSTART;TZID=Europe/London:20210816T120000
DTEND;TZID=Europe/London:20210816T160000
DTSTAMP:20260423T164112
CREATED:20210712T131002Z
LAST-MODIFIED:20210712T133449Z
UID:23365-1629115200-1629129600@www.justyouth.org.uk
SUMMARY:Graffiti Workshop\, Magic and Circus Skills and Creation Skate Park - Britannia Park\, Rowley
DESCRIPTION:Join us for a boredom busting summer of fun! \nUnplug your devices and get outdoors this summer to try a host of fun and exciting activities. From a skating competition (including learning new skills and tricks)\, music\, magic and circus skills\, graffiti art\, film making to climbing and sports – we’ve got it all coming to a park near you! \nFollow us on facebook at www.facebook.com/JustYouthSandwell for the most up to date information. \nThese programmes have been made possible due to funding and support from the Holiday Activity & Food progamme and are supported by Ashley Richards – Community Engagement Manager – Birmingham 2022 Commonwealth Games. \nThe Department for Education’s Holiday Activities and Food Programme has provided funding for councils to deliver free fun activities linked to a food offer for children and young people who are eligible for free school meals during the summer holidays. Children and young people can be registered for the programme using this link: \nRegister now to get involved \nThere will be all sorts of activities on offer\, for young people aged 11-19yrs (up to 25yrs with SEND) to get involved in across Sandwell. \n#HAF2021
URL:https://www.justyouth.org.uk/event/graffiti-workshop-magic-and-circus-skills-and-creation-skate-park-britannia-park-rowley/
LOCATION:Britannia Park\, Rowley\, Rowley Village\, Blackheath\, West Midlands\, B65 9HH\, United Kingdom
CATEGORIES:Healthy Activities & Food,Summer Activities
ATTACH;FMTTYPE=image/jpeg:https://www.justyouth.org.uk/wp-content/uploads/2021/07/Circus-and-Magic.jpg
ORGANIZER;CN="Sandwell MBC - Youth Service":MAILTO:youngpeople_services@sandwell.gov.uk
END:VEVENT
BEGIN:VEVENT
DTSTART;TZID=Europe/London:20210817T120000
DTEND;TZID=Europe/London:20210817T160000
DTSTAMP:20260423T164112
CREATED:20210712T131726Z
LAST-MODIFIED:20210712T135155Z
UID:23372-1629201600-1629216000@www.justyouth.org.uk
SUMMARY:Graffiti Workshop\, Creation Skate Park and Music Production on Youth Bus - Britannia Park\, Rowley
DESCRIPTION:Join us for a boredom busting summer of fun! \nUnplug your devices and get outdoors this summer to try a host of fun and exciting activities. From a skating competition (including learning new skills and tricks)\, music\, magic and circus skills\, graffiti art\, film making to climbing and sports – we’ve got it all coming to a park near you! \nFollow us on facebook at www.facebook.com/JustYouthSandwell for the most up to date information. \nThese programmes have been made possible due to funding and support from the Holiday Activity & Food progamme and are supported by Ashley Richards – Community Engagement Manager – Birmingham 2022 Commonwealth Games. \nThe Department for Education’s Holiday Activities and Food Programme has provided funding for councils to deliver free fun activities linked to a food offer for children and young people who are eligible for free school meals during the summer holidays. Children and young people can be registered for the programme using this link: \nRegister now to get involved \nThere will be all sorts of activities on offer\, for young people aged 11-19yrs (up to 25yrs with SEND) to get involved in across Sandwell. \n#HAF2021
URL:https://www.justyouth.org.uk/event/graffiti-workshop-creation-skate-park-and-music-production-on-youth-bus-britannia-park-rowley/
LOCATION:Britannia Park\, Rowley\, Rowley Village\, Blackheath\, West Midlands\, B65 9HH\, United Kingdom
CATEGORIES:Healthy Activities & Food,Summer Activities
ATTACH;FMTTYPE=image/jpeg:https://www.justyouth.org.uk/wp-content/uploads/2021/07/Skateboard.jpg
ORGANIZER;CN="Sandwell MBC - Youth Service":MAILTO:youngpeople_services@sandwell.gov.uk
END:VEVENT
BEGIN:VEVENT
DTSTART;TZID=Europe/London:20210818T120000
DTEND;TZID=Europe/London:20210818T160000
DTSTAMP:20260423T164112
CREATED:20210712T132119Z
LAST-MODIFIED:20210712T133613Z
UID:23374-1629288000-1629302400@www.justyouth.org.uk
SUMMARY:Graffiti Workshop\, Digital Projection Workshop and Creation Skate Park - Britannia Park\, Rowley
DESCRIPTION:Join us for a boredom busting summer of fun! \nUnplug your devices and get outdoors this summer to try a host of fun and exciting activities. From a skating competition (including learning new skills and tricks)\, music\, magic and circus skills\, graffiti art\, film making to climbing and sports – we’ve got it all coming to a park near you! \nFollow us on facebook at www.facebook.com/JustYouthSandwell for the most up to date information. \nThese programmes have been made possible due to funding and support from the Holiday Activity & Food progamme and are supported by Ashley Richards – Community Engagement Manager – Birmingham 2022 Commonwealth Games. \nThe Department for Education’s Holiday Activities and Food Programme has provided funding for councils to deliver free fun activities linked to a food offer for children and young people who are eligible for free school meals during the summer holidays. Children and young people can be registered for the programme using this link: \nRegister now to get involved \nThere will be all sorts of activities on offer\, for young people aged 11-19yrs (up to 25yrs with SEND) to get involved in across Sandwell. \n#HAF2021
URL:https://www.justyouth.org.uk/event/graffiti-workshop-digital-projection-workshop-and-creation-skate-park-britannia-park-rowley/
LOCATION:Britannia Park\, Rowley\, Rowley Village\, Blackheath\, West Midlands\, B65 9HH\, United Kingdom
CATEGORIES:Healthy Activities & Food,Summer Activities
ATTACH;FMTTYPE=image/jpeg:https://www.justyouth.org.uk/wp-content/uploads/2021/07/Projector.jpg
ORGANIZER;CN="Sandwell MBC - Youth Service":MAILTO:youngpeople_services@sandwell.gov.uk
END:VEVENT
BEGIN:VEVENT
DTSTART;TZID=Europe/London:20210819T120000
DTEND;TZID=Europe/London:20210819T160000
DTSTAMP:20260423T164112
CREATED:20210712T132247Z
LAST-MODIFIED:20210712T133938Z
UID:23376-1629374400-1629388800@www.justyouth.org.uk
SUMMARY:Graffiti Workshop\, Creation Skate Park and Film Making / VLOG - Britannia Park\, Rowley
DESCRIPTION:Join us for a boredom busting summer of fun! \nUnplug your devices and get outdoors this summer to try a host of fun and exciting activities. From a skating competition (including learning new skills and tricks)\, music\, magic and circus skills\, graffiti art\, film making to climbing and sports – we’ve got it all coming to a park near you! \nFollow us on facebook at www.facebook.com/JustYouthSandwell for the most up to date information. \nThese programmes have been made possible due to funding and support from the Holiday Activity & Food progamme and are supported by Ashley Richards – Community Engagement Manager – Birmingham 2022 Commonwealth Games. \nThe Department for Education’s Holiday Activities and Food Programme has provided funding for councils to deliver free fun activities linked to a food offer for children and young people who are eligible for free school meals during the summer holidays. Children and young people can be registered for the programme using this link: \nRegister now to get involved \nThere will be all sorts of activities on offer\, for young people aged 11-19yrs (up to 25yrs with SEND) to get involved in across Sandwell. \n#HAF2021
URL:https://www.justyouth.org.uk/event/graffiti-workshop-creation-skate-park-and-film-making-vlog-britannia-park-rowley/
LOCATION:Britannia Park\, Rowley\, Rowley Village\, Blackheath\, West Midlands\, B65 9HH\, United Kingdom
CATEGORIES:Healthy Activities & Food,Summer Activities
ATTACH;FMTTYPE=image/jpeg:https://www.justyouth.org.uk/wp-content/uploads/2021/07/Vlog.jpg
ORGANIZER;CN="Sandwell MBC - Youth Service":MAILTO:youngpeople_services@sandwell.gov.uk
END:VEVENT
BEGIN:VEVENT
DTSTART;TZID=Europe/London:20210823T120000
DTEND;TZID=Europe/London:20210823T160000
DTSTAMP:20260423T164112
CREATED:20210712T122803Z
LAST-MODIFIED:20210712T132744Z
UID:23337-1629720000-1629734400@www.justyouth.org.uk
SUMMARY:Graffiti Workshop\, Magic and Circus Skills and Creation Skate Park - Victoria Park\, Tipton
DESCRIPTION:Join us for a boredom busting summer of fun! \nUnplug your devices and get outdoors this summer to try a host of fun and exciting activities. From a skating competition (including learning new skills and tricks)\, music\, magic and circus skills\, graffiti art\, film making to climbing and sports – we’ve got it all coming to a park near you! \nFollow us on facebook at www.facebook.com/JustYouthSandwell for the most up to date information. \nThese programmes have been made possible due to funding and support from the Holiday Activity & Food progamme and are supported by Ashley Richards – Community Engagement Manager – Birmingham 2022 Commonwealth Games. \nThe Department for Education’s Holiday Activities and Food Programme has provided funding for councils to deliver free fun activities linked to a food offer for children and young people who are eligible for free school meals during the summer holidays. Children and young people can be registered for the programme using this link: \nRegister now to get involved \nThere will be all sorts of activities on offer\, for young people aged 11-19yrs (up to 25yrs with SEND) to get involved in across Sandwell. \n#HAF2021
URL:https://www.justyouth.org.uk/event/graffiti-workshop-magic-and-circus-skills-and-creation-skate-park-victoria-park/
LOCATION:Victoria Park\, Tipton\, Victoria Road\,\, Tipton\, West Midlands\, DY4 8SW\, United Kingdom
CATEGORIES:Healthy Activities & Food,Summer Activities
ATTACH;FMTTYPE=image/jpeg:https://www.justyouth.org.uk/wp-content/uploads/2021/07/Circus-and-Magic.jpg
ORGANIZER;CN="Sandwell MBC - Youth Service":MAILTO:youngpeople_services@sandwell.gov.uk
END:VEVENT
BEGIN:VEVENT
DTSTART;TZID=Europe/London:20210824T120000
DTEND;TZID=Europe/London:20210824T153000
DTSTAMP:20260423T164112
CREATED:20210712T122925Z
LAST-MODIFIED:20210712T132853Z
UID:23339-1629806400-1629819000@www.justyouth.org.uk
SUMMARY:Graffiti Workshop\, Creation Skate Park and Music Production on Youth Bus - Victoria Park\, Tipton
DESCRIPTION:Join us for a boredom busting summer of fun! \nUnplug your devices and get outdoors this summer to try a host of fun and exciting activities. From a skating competition (including learning new skills and tricks)\, music\, magic and circus skills\, graffiti art\, film making to climbing and sports – we’ve got it all coming to a park near you! \nFollow us on facebook at www.facebook.com/JustYouthSandwell for the most up to date information. \nThese programmes have been made possible due to funding and support from the Holiday Activity & Food progamme and are supported by Ashley Richards – Community Engagement Manager – Birmingham 2022 Commonwealth Games. \nThe Department for Education’s Holiday Activities and Food Programme has provided funding for councils to deliver free fun activities linked to a food offer for children and young people who are eligible for free school meals during the summer holidays. Children and young people can be registered for the programme using this link: \nRegister now to get involved \nThere will be all sorts of activities on offer\, for young people aged 11-19yrs (up to 25yrs with SEND) to get involved in across Sandwell. \n#HAF2021
URL:https://www.justyouth.org.uk/event/graffiti-workshop-creation-skate-park-and-music-production-on-youth-bus-victoria-park/
LOCATION:Victoria Park\, Tipton\, Victoria Road\,\, Tipton\, West Midlands\, DY4 8SW\, United Kingdom
CATEGORIES:Healthy Activities & Food,Summer Activities
ATTACH;FMTTYPE=image/jpeg:https://www.justyouth.org.uk/wp-content/uploads/2021/07/Graffiti-1.jpg
ORGANIZER;CN="Sandwell MBC - Youth Service":MAILTO:youngpeople_services@sandwell.gov.uk
END:VEVENT
BEGIN:VEVENT
DTSTART;TZID=Europe/London:20210825T120000
DTEND;TZID=Europe/London:20210825T160000
DTSTAMP:20260423T164112
CREATED:20210712T123316Z
LAST-MODIFIED:20210712T132935Z
UID:23341-1629892800-1629907200@www.justyouth.org.uk
SUMMARY:Graffiti Workshop\, Digital Projection Workshop and Creation Skate Park - Victoria Park\, Tipton
DESCRIPTION:Join us for a boredom busting summer of fun! \nUnplug your devices and get outdoors this summer to try a host of fun and exciting activities. From a skating competition (including learning new skills and tricks)\, music\, magic and circus skills\, graffiti art\, film making to climbing and sports – we’ve got it all coming to a park near you! \nFollow us on facebook at www.facebook.com/JustYouthSandwell for the most up to date information. \nThese programmes have been made possible due to funding and support from the Holiday Activity & Food progamme and are supported by Ashley Richards – Community Engagement Manager – Birmingham 2022 Commonwealth Games. \nThe Department for Education’s Holiday Activities and Food Programme has provided funding for councils to deliver free fun activities linked to a food offer for children and young people who are eligible for free school meals during the summer holidays. Children and young people can be registered for the programme using this link: \nRegister now to get involved \nThere will be all sorts of activities on offer\, for young people aged 11-19yrs (up to 25yrs with SEND) to get involved in across Sandwell. \n#HAF2021
URL:https://www.justyouth.org.uk/event/graffiti-workshop-digital-projection-workshop-and-creation-skate-park-victoria-park/
LOCATION:Victoria Park\, Tipton\, Victoria Road\,\, Tipton\, West Midlands\, DY4 8SW\, United Kingdom
CATEGORIES:Healthy Activities & Food,Summer Activities
ATTACH;FMTTYPE=image/jpeg:https://www.justyouth.org.uk/wp-content/uploads/2021/07/Projector.jpg
ORGANIZER;CN="Sandwell MBC - Youth Service":MAILTO:youngpeople_services@sandwell.gov.uk
END:VEVENT
BEGIN:VEVENT
DTSTART;TZID=Europe/London:20210826T120000
DTEND;TZID=Europe/London:20210826T160000
DTSTAMP:20260423T164112
CREATED:20210712T123458Z
LAST-MODIFIED:20210712T134005Z
UID:23343-1629979200-1629993600@www.justyouth.org.uk
SUMMARY:Graffiti Workshop\, Creation Skate Park and Film Making / VLOG - Victoria Park\, Tipton
DESCRIPTION:Join us for a boredom busting summer of fun! \nUnplug your devices and get outdoors this summer to try a host of fun and exciting activities. From a skating competition (including learning new skills and tricks)\, music\, magic and circus skills\, graffiti art\, film making to climbing and sports – we’ve got it all coming to a park near you! \nFollow us on facebook at www.facebook.com/JustYouthSandwell for the most up to date information. \nThese programmes have been made possible due to funding and support from the Holiday Activity & Food progamme and are supported by Ashley Richards – Community Engagement Manager – Birmingham 2022 Commonwealth Games. \nThe Department for Education’s Holiday Activities and Food Programme has provided funding for councils to deliver free fun activities linked to a food offer for children and young people who are eligible for free school meals during the summer holidays. Children and young people can be registered for the programme using this link: \nRegister now to get involved \nThere will be all sorts of activities on offer\, for young people aged 11-19yrs (up to 25yrs with SEND) to get involved in across Sandwell. \n#HAF2021
URL:https://www.justyouth.org.uk/event/graffiti-workshop-creation-skate-park-and-film-making-vlog-victoria-park/
LOCATION:Victoria Park\, Tipton\, Victoria Road\,\, Tipton\, West Midlands\, DY4 8SW\, United Kingdom
CATEGORIES:Healthy Activities & Food,Summer Activities
ATTACH;FMTTYPE=image/jpeg:https://www.justyouth.org.uk/wp-content/uploads/2021/07/Vlog.jpg
ORGANIZER;CN="Sandwell MBC - Youth Service":MAILTO:youngpeople_services@sandwell.gov.uk
END:VEVENT
END:VCALENDAR