BEGIN:VCALENDAR
VERSION:2.0
PRODID:-//Just Youth - ECPv6.14.1//NONSGML v1.0//EN
CALSCALE:GREGORIAN
METHOD:PUBLISH
X-ORIGINAL-URL:https://www.justyouth.org.uk
X-WR-CALDESC:Events for Just Youth
REFRESH-INTERVAL;VALUE=DURATION:PT1H
X-Robots-Tag:noindex
X-PUBLISHED-TTL:PT1H
BEGIN:VTIMEZONE
TZID:Europe/London
BEGIN:DAYLIGHT
TZOFFSETFROM:+0000
TZOFFSETTO:+0100
TZNAME:BST
DTSTART:20210328T010000
END:DAYLIGHT
BEGIN:STANDARD
TZOFFSETFROM:+0100
TZOFFSETTO:+0000
TZNAME:GMT
DTSTART:20211031T010000
END:STANDARD
END:VTIMEZONE
BEGIN:VEVENT
DTSTART;TZID=Europe/London:20210728T100000
DTEND;TZID=Europe/London:20210728T143000
DTSTAMP:20260420T035416
CREATED:20210712T142844Z
LAST-MODIFIED:20210712T143630Z
UID:23392-1627466400-1627482600@www.justyouth.org.uk
SUMMARY:Canoeing and Mountain Biking at Malthouse - Pre-booking required
DESCRIPTION:Join us for a boredom busting summer of fun! \nUnplug your devices and get outdoors this summer to try a host of fun and exciting activities. \nFollow us on facebook at www.facebook.com/JustYouthSandwell for the most up to date information. \nThese programmes have been made possible due to funding and support from the Holiday Activity & Food progamme and are supported by Ashley Richards – Community Engagement Manager – Birmingham 2022 Commonwealth Games. \nThe Department for Education’s Holiday Activities and Food Programme has provided funding for councils to deliver free fun activities linked to a food offer for children and young people who are eligible for free school meals during the summer holidays. Children and young people can be registered for the programme using this link: \nRegister now to get involved \nTo book on this particular activity you will also need to contact Ian Clews\, Senior Youth Officer\, at Malthouse. Please note there is a limit of 12 young people for this activity. \n#HAF2021
URL:https://www.justyouth.org.uk/event/canoeing-and-mountain-biking-at-malthouse-pre-booking-required/
LOCATION:Malthouse Outdoor Activity Centre\, Tipton\, Hurst Lane\, Tipton\, West Midlands\, DY4 9AB\, United Kingdom
CATEGORIES:Healthy Activities & Food,Summer Activities
ATTACH;FMTTYPE=image/jpeg:https://www.justyouth.org.uk/wp-content/uploads/2021/07/Kayaking-.jpg
ORGANIZER;CN="Sandwell MBC - Youth Service":MAILTO:youngpeople_services@sandwell.gov.uk
END:VEVENT
BEGIN:VEVENT
DTSTART;TZID=Europe/London:20210728T120000
DTEND;TZID=Europe/London:20210728T160000
DTSTAMP:20260420T035416
CREATED:20210712T130609Z
LAST-MODIFIED:20210726T090542Z
UID:23360-1627473600-1627488000@www.justyouth.org.uk
SUMMARY:Graffiti Workshop - Dartmouth Park\, West Bromwich
DESCRIPTION:Join Sandwell Young People’s Services for a boredom busting summer of fun! \nUnplug your devices and get outdoors this summer to try a host of fun and exciting activities. \nFollow us on Facebook at www.facebook.com/JustYouthSandwell for the most up to date information. \nThese programmes have been made possible due to funding and support from the Holiday Activity & Food programme and are supported by Ashley Richards – Community Engagement Manager – Birmingham 2022 Commonwealth Games. \nThe Department for Education’s Holiday Activities and Food Programme has provided funding for Sandwell MBC to deliver free fun activities linked to a food offer for children and young people who are eligible for free school meals during the summer holidays. \nChildren and young people can be registered for the programme using this link: \nRegister now to get involved \nThere will be all sorts of activities on offer for children and young people to get involved in. \n#HAF2021
URL:https://www.justyouth.org.uk/event/graffiti-workshop-magic-circus-skills-dartmouth-park-west-bromwich/
LOCATION:Dartmouth Park\, West Bromwich\, Reform Street\, West Bromwich\, West Midlands\, B71 4AS\, United Kingdom
CATEGORIES:Healthy Activities & Food,Summer Activities
ATTACH;FMTTYPE=image/jpeg:https://www.justyouth.org.uk/wp-content/uploads/2021/07/Circus-and-Magic.jpg
ORGANIZER;CN="Sandwell MBC - Youth Service":MAILTO:youngpeople_services@sandwell.gov.uk
END:VEVENT
BEGIN:VEVENT
DTSTART;TZID=Europe/London:20210729T120000
DTEND;TZID=Europe/London:20210729T160000
DTSTAMP:20260420T035416
CREATED:20210720T111130Z
LAST-MODIFIED:20210723T132039Z
UID:23368-1627560000-1627574400@www.justyouth.org.uk
SUMMARY:Graffiti & Digital Projection Workshops - Dartmouth Park\, West Bromwich
DESCRIPTION:Join Sandwell Young People’s Services for a boredom busting summer of fun! \nUnplug your devices and get outdoors this summer to try a host of fun and exciting activities. From music\, magic and circus skills\, graffiti art\, film making to climbing and sports – we’ve got it all coming to a park near you! \nFollow us on Facebook at www.facebook.com/JustYouthSandwell for the most up to date information. \nThese programmes have been made possible due to funding and support from the Holiday Activity & Food programme and are supported by Ashley Richards – Community Engagement Manager – Birmingham 2022 Commonwealth Games. \nThe Department for Education’s Holiday Activities and Food Programme has provided funding for Sandwell MBC to deliver free fun activities linked to a food offer for children and young people who are eligible for free school meals during the summer holidays. \nChildren and young people can be registered for the programme using this link: \nRegister now to get involved \nThere will be all sorts of activities on offer for children and young people to get involved in. \n#HAF2021
URL:https://www.justyouth.org.uk/event/graffiti-digital-projection-workshops-dartmouth-park-west-bromwich/
LOCATION:Dartmouth Park\, West Bromwich\, Reform Street\, West Bromwich\, West Midlands\, B71 4AS\, United Kingdom
CATEGORIES:Healthy Activities & Food,Summer Activities
ATTACH;FMTTYPE=image/jpeg:https://www.justyouth.org.uk/wp-content/uploads/2021/07/Projector.jpg
ORGANIZER;CN="Sandwell MBC - Youth Service":MAILTO:youngpeople_services@sandwell.gov.uk
END:VEVENT
END:VCALENDAR