BEGIN:VCALENDAR
VERSION:2.0
PRODID:-//Just Youth - ECPv6.14.1//NONSGML v1.0//EN
CALSCALE:GREGORIAN
METHOD:PUBLISH
X-ORIGINAL-URL:https://www.justyouth.org.uk
X-WR-CALDESC:Events for Just Youth
REFRESH-INTERVAL;VALUE=DURATION:PT1H
X-Robots-Tag:noindex
X-PUBLISHED-TTL:PT1H
BEGIN:VTIMEZONE
TZID:Europe/London
BEGIN:DAYLIGHT
TZOFFSETFROM:+0000
TZOFFSETTO:+0100
TZNAME:BST
DTSTART:20230326T010000
END:DAYLIGHT
BEGIN:STANDARD
TZOFFSETFROM:+0100
TZOFFSETTO:+0000
TZNAME:GMT
DTSTART:20231029T010000
END:STANDARD
END:VTIMEZONE
BEGIN:VEVENT
DTSTART;TZID=Europe/London:20230726T100000
DTEND;TZID=Europe/London:20230726T140000
DTSTAMP:20260423T150614
CREATED:20230630T135050Z
LAST-MODIFIED:20230630T135050Z
UID:30358-1690365600-1690380000@www.justyouth.org.uk
SUMMARY:Malthouse Multi-Activity Day
DESCRIPTION:Calling all adventure enthusiasts! Get ready for an action-packed day filled with adrenaline-pumping activities and unforgettable experiences at Malthouse Adventure Centre. Gather your friends and join us for a day of thrill and excitement! \nChallenge yourself to conquer towering rock walls as you test your strength\, agility\, and problem-solving skills. With various climbing routes suitable for all levels\, you’ll feel a sense of accomplishment as you reach new heights and overcome obstacles. \nUnleash your inner Robin Hood as you master the art of archery. Learn proper techniques\, aim for the bullseye\, and feel the satisfaction of hitting your target. With expert guidance\, you’ll develop your skills and experience the excitement of this ancient sport. \nVenture out onto the water in a canoe and explore the scenic beauty of the local canals. Paddle at your own pace\, soak in the surroundings\, and experience being on the water. Our instructors will ensure your safety and provide guidance for a memorable canoeing experience. \nEmbark on an exhilarating mountain biking adventure along the canal towpaths.  Whether you’re a beginner or an experienced rider\, our trails offer excitement and fun for everyone. \nActivities are available to book for young people aged 11-19yrs. To book your place or to find out more information call Ian Clews on 07810 850981 or e-mail ian_clews@sandwell.gov.uk \n*Activities subject to change \n 
URL:https://www.justyouth.org.uk/event/malthouse-multi-activity-day/
LOCATION:Malthouse Outdoor Activity Centre\, Tipton\, Hurst Lane\, Tipton\, West Midlands\, DY4 9AB\, United Kingdom
CATEGORIES:Healthy Activities & Food,Summer Activities
ATTACH;FMTTYPE=image/png:https://www.justyouth.org.uk/wp-content/uploads/2023/06/Archery-1-1.png
ORGANIZER;CN="Sandwell MBC - Youth Service":MAILTO:youngpeople_services@sandwell.gov.uk
END:VEVENT
END:VCALENDAR