BEGIN:VCALENDAR
VERSION:2.0
PRODID:-//Just Youth - ECPv6.14.1//NONSGML v1.0//EN
CALSCALE:GREGORIAN
METHOD:PUBLISH
X-WR-CALNAME:Just Youth
X-ORIGINAL-URL:https://www.justyouth.org.uk
X-WR-CALDESC:Events for Just Youth
REFRESH-INTERVAL;VALUE=DURATION:PT1H
X-Robots-Tag:noindex
X-PUBLISHED-TTL:PT1H
BEGIN:VTIMEZONE
TZID:Europe/London
BEGIN:DAYLIGHT
TZOFFSETFROM:+0000
TZOFFSETTO:+0100
TZNAME:BST
DTSTART:20170326T010000
END:DAYLIGHT
BEGIN:STANDARD
TZOFFSETFROM:+0100
TZOFFSETTO:+0000
TZNAME:GMT
DTSTART:20171029T010000
END:STANDARD
BEGIN:DAYLIGHT
TZOFFSETFROM:+0000
TZOFFSETTO:+0100
TZNAME:BST
DTSTART:20180325T010000
END:DAYLIGHT
BEGIN:STANDARD
TZOFFSETFROM:+0100
TZOFFSETTO:+0000
TZNAME:GMT
DTSTART:20181028T010000
END:STANDARD
BEGIN:DAYLIGHT
TZOFFSETFROM:+0000
TZOFFSETTO:+0100
TZNAME:BST
DTSTART:20190331T010000
END:DAYLIGHT
BEGIN:STANDARD
TZOFFSETFROM:+0100
TZOFFSETTO:+0000
TZNAME:GMT
DTSTART:20191027T010000
END:STANDARD
END:VTIMEZONE
BEGIN:VEVENT
DTSTART;TZID=Europe/London:20191031T120000
DTEND;TZID=Europe/London:20191031T140000
DTSTAMP:20260421T032720
CREATED:20191018T115233Z
LAST-MODIFIED:20191018T115233Z
UID:16521-1572523200-1572530400@www.justyouth.org.uk
SUMMARY:Halloween Youth Bus
DESCRIPTION:The Halloween Youth Bus will be at following destinations over October half term.  As usual young people aged 11-19yrs (up to 25yrs with additional needs) will be able to board the bus and play Playstation\, Xbox\, have a go at DJ’ing\, laptops with internet access\, Halloween arts and crafts\, also our youth workers will be available if you need any advice\, guidance or just someone to chat to. \nOn Thursday 31st October 2019 the bus will be at: \n\n12.00pm – 2.00pm\, Victoria Park\, Smethwick\n2.30pm – 4.30pm\, Tibbington Estate\, Tipton\n\n  \nOn Friday 1st November 2019\, 5.00m – 9.00pm\, the bus will be at the Dartmouth Park Firework Event.  Tickets will need to be purchased to attend the event\, please click here to buy tickets. \n  \n 
URL:https://www.justyouth.org.uk/event/halloween-youth-bus/
LOCATION:Victoria Park\, Victoria Road\, Tipton\, West Midlands\, DY4 8SW\, United Kingdom
CATEGORIES:Boroughwide,October Half Term Activities,Youth Bus
ATTACH;FMTTYPE=image/jpeg:https://www.justyouth.org.uk/wp-content/uploads/2019/10/Half-Term-Flyer-Oct-2019-final.jpg
ORGANIZER;CN="Sandwell MBC - Youth Service":MAILTO:youngpeople_services@sandwell.gov.uk
END:VEVENT
BEGIN:VEVENT
DTSTART;TZID=Europe/London:20191031T143000
DTEND;TZID=Europe/London:20191031T163000
DTSTAMP:20260421T032720
CREATED:20191018T120655Z
LAST-MODIFIED:20191018T120655Z
UID:16526-1572532200-1572539400@www.justyouth.org.uk
SUMMARY:Halloween Youth Bus
DESCRIPTION:The Halloween Youth Bus will be at following destinations over October half term.  As usual young people aged 11-19yrs (up to 25yrs with additional needs) will be able to board the bus and play Playstation\, Xbox\, have a go at DJ’ing\, laptops with internet access\, Halloween arts and crafts\, also our youth workers will be available if you need any advice\, guidance or just someone to chat to. \nOn Thursday 31st October 2019 the bus will be at: \n\n12.00pm – 2.00pm\, Victoria Park\, Smethwick\n2.30pm – 4.30pm\, Tibbington Estate\, Tipton\n\n  \nOn Friday 1st November 2019\, 5.00m – 9.00pm\, the bus will be at the Dartmouth Park Firework Event.  Tickets will need to be purchased to attend the event\, please click here to buy tickets.
URL:https://www.justyouth.org.uk/event/halloween-youth-bus-2/
LOCATION:Tibbington Estate\, Tipton\, Tibbington Estate\, Tipton\, West Midlands\, United Kingdom
CATEGORIES:Boroughwide,October Half Term Activities,Youth Bus
ATTACH;FMTTYPE=image/jpeg:https://www.justyouth.org.uk/wp-content/uploads/2019/10/Half-Term-Flyer-Oct-2019-final.jpg
ORGANIZER;CN="Sandwell MBC - Youth Service":MAILTO:youngpeople_services@sandwell.gov.uk
END:VEVENT
BEGIN:VEVENT
DTSTART;TZID=Europe/London:20191031T120000
DTEND;TZID=Europe/London:20191031T140000
DTSTAMP:20260421T032720
CREATED:20191018T115233Z
LAST-MODIFIED:20191018T115233Z
UID:16521-1572523200-1572530400@www.justyouth.org.uk
SUMMARY:Halloween Youth Bus
DESCRIPTION:The Halloween Youth Bus will be at following destinations over October half term.  As usual young people aged 11-19yrs (up to 25yrs with additional needs) will be able to board the bus and play Playstation\, Xbox\, have a go at DJ’ing\, laptops with internet access\, Halloween arts and crafts\, also our youth workers will be available if you need any advice\, guidance or just someone to chat to. \nOn Thursday 31st October 2019 the bus will be at: \n\n12.00pm – 2.00pm\, Victoria Park\, Smethwick\n2.30pm – 4.30pm\, Tibbington Estate\, Tipton\n\n  \nOn Friday 1st November 2019\, 5.00m – 9.00pm\, the bus will be at the Dartmouth Park Firework Event.  Tickets will need to be purchased to attend the event\, please click here to buy tickets. \n  \n 
URL:https://www.justyouth.org.uk/event/halloween-youth-bus/
LOCATION:Victoria Park\, Victoria Road\, Tipton\, West Midlands\, DY4 8SW\, United Kingdom
CATEGORIES:Boroughwide,October Half Term Activities,Youth Bus
ATTACH;FMTTYPE=image/jpeg:https://www.justyouth.org.uk/wp-content/uploads/2019/10/Half-Term-Flyer-Oct-2019-final.jpg
ORGANIZER;CN="Sandwell MBC - Youth Service":MAILTO:youngpeople_services@sandwell.gov.uk
END:VEVENT
BEGIN:VEVENT
DTSTART;TZID=Europe/London:20191031T120000
DTEND;TZID=Europe/London:20191031T140000
DTSTAMP:20260421T032720
CREATED:20191018T115233Z
LAST-MODIFIED:20191018T115233Z
UID:16521-1572523200-1572530400@www.justyouth.org.uk
SUMMARY:Halloween Youth Bus
DESCRIPTION:The Halloween Youth Bus will be at following destinations over October half term.  As usual young people aged 11-19yrs (up to 25yrs with additional needs) will be able to board the bus and play Playstation\, Xbox\, have a go at DJ’ing\, laptops with internet access\, Halloween arts and crafts\, also our youth workers will be available if you need any advice\, guidance or just someone to chat to. \nOn Thursday 31st October 2019 the bus will be at: \n\n12.00pm – 2.00pm\, Victoria Park\, Smethwick\n2.30pm – 4.30pm\, Tibbington Estate\, Tipton\n\n  \nOn Friday 1st November 2019\, 5.00m – 9.00pm\, the bus will be at the Dartmouth Park Firework Event.  Tickets will need to be purchased to attend the event\, please click here to buy tickets. \n  \n 
URL:https://www.justyouth.org.uk/event/halloween-youth-bus/
LOCATION:Victoria Park\, Victoria Road\, Tipton\, West Midlands\, DY4 8SW\, United Kingdom
CATEGORIES:Boroughwide,October Half Term Activities,Youth Bus
ATTACH;FMTTYPE=image/jpeg:https://www.justyouth.org.uk/wp-content/uploads/2019/10/Half-Term-Flyer-Oct-2019-final.jpg
ORGANIZER;CN="Sandwell MBC - Youth Service":MAILTO:youngpeople_services@sandwell.gov.uk
END:VEVENT
BEGIN:VEVENT
DTSTART;TZID=Europe/London:20170109T180000
DTEND;TZID=Europe/London:20170109T193000
DTSTAMP:20260421T032720
CREATED:20161223T120712Z
LAST-MODIFIED:20210208T111434Z
UID:5293-1483984800-1483990200@www.justyouth.org.uk
SUMMARY:Youth Bus - Brickhouse\, Rowley
DESCRIPTION:
URL:https://www.justyouth.org.uk/event/youth-bus-brickhouse-rowley/
LOCATION:Brickhouse Community Centre\, Dudhill Road\, Rowley Regis\, West Midlands\, B65 8HS\, United Kingdom
CATEGORIES:Youth Bus
ORGANIZER;CN="Sandwell MBC - Youth Service":MAILTO:youngpeople_services@sandwell.gov.uk
END:VEVENT
BEGIN:VEVENT
DTSTART;TZID=Europe/London:20170106T183000
DTEND;TZID=Europe/London:20170106T203000
DTSTAMP:20260421T032720
CREATED:20161223T122347Z
LAST-MODIFIED:20210208T111447Z
UID:6008-1483727400-1483734600@www.justyouth.org.uk
SUMMARY:Youth Bus - Kestevens Road\, West Bromwich
DESCRIPTION:
URL:https://www.justyouth.org.uk/event/youth-bus-kestevens-road-west-bromwich/
LOCATION:Kestevens Road\, Hateley Heath\, Kestevens Road\, West Bromwich \, West Midlands\, B71 1JQ\, United Kingdom
CATEGORIES:Youth Bus
ORGANIZER;CN="Sandwell MBC - Youth Service":MAILTO:youngpeople_services@sandwell.gov.uk
END:VEVENT
BEGIN:VEVENT
DTSTART;TZID=Europe/London:20170106T160000
DTEND;TZID=Europe/London:20170106T180000
DTSTAMP:20260421T032720
CREATED:20161223T122154Z
LAST-MODIFIED:20210208T111457Z
UID:5803-1483718400-1483725600@www.justyouth.org.uk
SUMMARY:Youth Bus - Brook Road\, Oldbury
DESCRIPTION:
URL:https://www.justyouth.org.uk/event/youth-bus-brook-road-oldbury/
LOCATION:Brook Road\, Oldbury\, Brook Road\, Oldbury \, West Midlands\, B68 8AA\, United Kingdom
CATEGORIES:Youth Bus
ORGANIZER;CN="Sandwell MBC - Youth Service":MAILTO:youngpeople_services@sandwell.gov.uk
END:VEVENT
BEGIN:VEVENT
DTSTART;TZID=Europe/London:20170105T180000
DTEND;TZID=Europe/London:20170105T200000
DTSTAMP:20260421T032720
CREATED:20161223T122032Z
LAST-MODIFIED:20210208T112011Z
UID:5699-1483639200-1483646400@www.justyouth.org.uk
SUMMARY:Youth Bus - Princes End\, Tipton
DESCRIPTION:
URL:https://www.justyouth.org.uk/event/youth-bus-princes-end-tipton/
LOCATION:Princes End\, Tipton\, Princes End\, Tipton\, West Midlands\, United Kingdom
CATEGORIES:Youth Bus
ORGANIZER;CN="Sandwell MBC - Youth Service":MAILTO:youngpeople_services@sandwell.gov.uk
END:VEVENT
BEGIN:VEVENT
DTSTART;TZID=Europe/London:20170104T193000
DTEND;TZID=Europe/London:20170104T210000
DTSTAMP:20260421T032720
CREATED:20161223T121910Z
LAST-MODIFIED:20210208T112054Z
UID:5595-1483558200-1483563600@www.justyouth.org.uk
SUMMARY:Youth Bus - Wednesbury Cricket Club
DESCRIPTION:
URL:https://www.justyouth.org.uk/event/youth-bus-wednesbury-cricket-club/
LOCATION:Wednesbury Sports Union\, Wood Green Road\, Wednesbury\, West Midlands\, WS10 9AX\, United Kingdom
CATEGORIES:Youth Bus
ORGANIZER;CN="Sandwell MBC - Youth Service":MAILTO:youngpeople_services@sandwell.gov.uk
END:VEVENT
BEGIN:VEVENT
DTSTART;TZID=Europe/London:20170103T180000
DTEND;TZID=Europe/London:20170103T200000
DTSTAMP:20260421T032720
CREATED:20161223T122759Z
LAST-MODIFIED:20210208T111105Z
UID:6011-1483466400-1483473600@www.justyouth.org.uk
SUMMARY:Youth Bus - Hurst Road\, Smethwick
DESCRIPTION:
URL:https://www.justyouth.org.uk/event/youth-bus-hurst-road-smethwick/
LOCATION:Hurst Road\, Smethwick\, Hurst Road\, Smethwick\, B67 6ND\, United Kingdom
CATEGORIES:Youth Bus
ORGANIZER;CN="Sandwell MBC - Youth Service":MAILTO:youngpeople_services@sandwell.gov.uk
END:VEVENT
END:VCALENDAR